BEGIN:VCALENDAR
VERSION:2.0
PRODID:-//ChamberMaster//Event Calendar 2.0//EN
METHOD:PUBLISH
X-PUBLISHED-TTL:P3D
REFRESH-INTERVAL:P3D
CALSCALE:GREGORIAN
BEGIN:VEVENT
DTSTART:20110430T141100Z
DTEND:20110430T141100Z
X-MICROSOFT-CDO-ALLDAYEVENT:FALSE
SUMMARY:LEADS Group B
DESCRIPTION:
X-ALT-DESC;FMTTYPE=text/html:
LOCATION:
UID:e.1404.12
SEQUENCE:3
DTSTAMP:20260426T033028Z
URL:https://members.kearneycoc.org/events/details/leads-group-b-04-30-2011-12
END:VEVENT

END:VCALENDAR
