BEGIN:VCALENDAR
VERSION:2.0
PRODID:-//ChamberMaster//Event Calendar 2.0//EN
METHOD:PUBLISH
X-PUBLISHED-TTL:P3D
REFRESH-INTERVAL:P3D
CALSCALE:GREGORIAN
BEGIN:VEVENT
DTSTART:20141018T120000Z
DTEND:20141018T160000Z
X-MICROSOFT-CDO-ALLDAYEVENT:FALSE
SUMMARY:Lebanese Breakfast
DESCRIPTION:
X-ALT-DESC;FMTTYPE=text/html:
LOCATION:St. George Orthodox Church 1505 Avenue G Kearney
UID:e.1404.5371
SEQUENCE:3
DTSTAMP:20260423T065650Z
URL:https://members.kearneycoc.org/events/details/lebanese-breakfast-10-18-2014-5371
END:VEVENT

END:VCALENDAR
