BEGIN:VCALENDAR
VERSION:2.0
PRODID:-//ChamberMaster//Event Calendar 2.0//EN
METHOD:PUBLISH
X-PUBLISHED-TTL:P3D
REFRESH-INTERVAL:P3D
CALSCALE:GREGORIAN
BEGIN:VEVENT
DTSTART:20220610T000000Z
DTEND:20220610T043000Z
X-MICROSOFT-CDO-ALLDAYEVENT:FALSE
SUMMARY:Lee Brice
DESCRIPTION:Lee Brice in concert at the Viaero Center in Kearney\, Nebraska with special guests Michael Ray and Jackson Dean\, Thursday\, June 9th.
X-ALT-DESC;FMTTYPE=text/html:Lee Brice in concert at the Viaero Center in Kearney\, Nebraska with special guests Michael Ray and Jackson Dean\, Thursday\, June 9th.
LOCATION:Viaero Center\, Kearney\, Nebraska
UID:e.1404.19754
SEQUENCE:3
DTSTAMP:20260423T103312Z
URL:https://members.kearneycoc.org/events/details/lee-brice-19754
END:VEVENT

END:VCALENDAR
