BEGIN:VCALENDAR
VERSION:2.0
PRODID:-//ChamberMaster//Event Calendar 2.0//EN
METHOD:PUBLISH
X-PUBLISHED-TTL:P3D
REFRESH-INTERVAL:P3D
CALSCALE:GREGORIAN
BEGIN:VEVENT
DTSTART:20131001T123000Z
DTEND:20131001T133000Z
X-MICROSOFT-CDO-ALLDAYEVENT:FALSE
SUMMARY:Legislative Forum
DESCRIPTION:Join us as the Nebraska State Chamber gives a preview of the 2014 Legislative Session and what to expect.
X-ALT-DESC;FMTTYPE=text/html:Join us as the Nebraska State Chamber gives a preview of the 2014 Legislative Session and what to expect.&nbsp\;
LOCATION:Chamber Center Conference Room 1007 2nd Ave Kearney\, NE
UID:e.1404.3182
SEQUENCE:3
DTSTAMP:20260424T003028Z
URL:https://members.kearneycoc.org/events/details/legislative-forum-10-01-2013-3182
END:VEVENT

END:VCALENDAR
