BEGIN:VCALENDAR
VERSION:2.0
PRODID:-//ChamberMaster//Event Calendar 2.0//EN
METHOD:PUBLISH
X-PUBLISHED-TTL:P3D
REFRESH-INTERVAL:P3D
CALSCALE:GREGORIAN
BEGIN:VEVENT
DTSTART:20140916T130000Z
DTEND:20140916T140000Z
X-MICROSOFT-CDO-ALLDAYEVENT:FALSE
SUMMARY:Legislative Forum- Please RSVP!
DESCRIPTION:The Nebraska State Chamber of Commerce and Industry will be in Kearney to give a recap of the 2014 Legislative Session as well as a preview of the 2015 Session.
X-ALT-DESC;FMTTYPE=text/html:The Nebraska State Chamber of Commerce and Industry will be in Kearney to give a recap of the 2014 Legislative Session as well as a preview of the 2015 Session.&nbsp\;
LOCATION:Kearney Area Chamber of Commerce 1007 Second Ave Kearney\, NE
UID:e.1404.4704
SEQUENCE:3
DTSTAMP:20260423T083249Z
URL:https://members.kearneycoc.org/events/details/legislative-forum-please-rsvp-09-16-2014-4704
END:VEVENT

END:VCALENDAR
