BEGIN:VCALENDAR
VERSION:2.0
PRODID:-//ChamberMaster//Event Calendar 2.0//EN
METHOD:PUBLISH
X-PUBLISHED-TTL:P3D
REFRESH-INTERVAL:P3D
CALSCALE:GREGORIAN
BEGIN:VEVENT
DTSTART;VALUE=DATE:20210924
DTEND;VALUE=DATE:20210925
TRANSP:TRANSPARENT
X-MICROSOFT-CDO-ALLDAYEVENT:TRUE
SUMMARY:LEGO Home Building Competition
DESCRIPTION:We are excited to host our LEGO Home Building Competition!\n\nRegister today and build until September 24!\n\nLast year we held a virtual event and this opened up the opportunity to welcome more participants and gave them the chance to use their own LEGO supplies. This year we are doing the same thing! Simply register and enjoy building the home of your dreams using your own LEGO supplies. \n\nBuilders can register AND begin building their dream home right way! All entries must be completed and submitted by September 24. \n\nBuilder Groups & Entry Fee\n\nIndividuals: Age 4-7\, 8-12\, Teens & Adults   $10 Member\, $15 Non Member\n\nBusiness Division: any business or organization   $25 flat rate\n\nPrizes Include\n\n$25 Target Gift Cards for the Winner in each Age Group and a $50 Calico Coffee Gift Card for the Winner in the Business / Organization Category\n\nFacebook voting will determine the winners.
X-ALT-DESC;FMTTYPE=text/html:<p>We are excited to host our LEGO Home Building Competition!<br />\nRegister today and build until September 24!</p>\n\n<p>Last year we held a virtual event and this opened up the opportunity to welcome more participants and gave them the chance to use their own LEGO supplies. This year we are doing the same thing! Simply register and enjoy building the home of your dreams using your own LEGO supplies.&nbsp\;</p>\n\n<p><span style="color:rgb(51\, 102\, 255)"><em><strong>Builders can register AND begin building their dream home right way! All entries must be completed and submitted by September 24.&nbsp\;</strong></em></span></p>\n\n<p><strong>Builder Groups &amp\; Entry Fee</strong></p>\n\n<p>Individuals:&nbsp\;Age 4-7\, 8-12\, Teens &amp\; Adults &ndash\;&nbsp\;$10 Member\, $15 Non Member</p>\n\n<p>Business Division: any business or organization &ndash\; $25 flat rate</p>\n\n<p><strong>Prizes Include</strong></p>\n\n<p>$25 Target Gift Cards for the Winner&nbsp\;in each Age Group and a&nbsp\;$50 Calico Coffee Gift Card&nbsp\;for the Winner in the&nbsp\;Business / Organization Category</p>\n\n<p>Facebook voting will determine the winners.</p>\n
LOCATION:In the comfort of your own home or business
UID:e.1404.19400
SEQUENCE:3
DTSTAMP:20260424T020523Z
URL:https://members.kearneycoc.org/events/details/lego-home-building-competition-19400
END:VEVENT

END:VCALENDAR
