BEGIN:VCALENDAR
VERSION:2.0
PRODID:-//ChamberMaster//Event Calendar 2.0//EN
METHOD:PUBLISH
X-PUBLISHED-TTL:P3D
REFRESH-INTERVAL:P3D
CALSCALE:GREGORIAN
BEGIN:VEVENT
DTSTART:20140325T230000Z
DTEND:20140325T233000Z
X-MICROSOFT-CDO-ALLDAYEVENT:FALSE
SUMMARY:Lego My Crane Award Ceremony
DESCRIPTION:March 25th at 6:00-6:30 pm\; Kearney Public Library\n\n\n\nSimple snacks will be served.  Find out if your Lego Crane is the winner!
X-ALT-DESC;FMTTYPE=text/html:<span style="color: rgb(0\, 0\, 0)\; font-family: Verdana\;">March </span><span style="color: rgb(0\, 0\, 0)\; font-family: Verdana\;">25</span><sup style="color: rgb(0\, 0\, 0)\; font-family: Verdana\;">th</sup><span style="color: rgb(0\, 0\, 0)\; font-family: Verdana\;">&nbsp\;at 6:00-6:30 pm\; Kearney Public Library<br />\n<br />\nSimple snacks will be served. &nbsp\;Find out if your Lego Crane is the winner! &nbsp\;</span>
LOCATION:
UID:e.1404.4486
SEQUENCE:3
DTSTAMP:20260423T181242Z
URL:https://members.kearneycoc.org/events/details/lego-my-crane-award-ceremony-03-25-2014-4486
END:VEVENT

END:VCALENDAR
