BEGIN:VCALENDAR
VERSION:2.0
PRODID:-//ChamberMaster//Event Calendar 2.0//EN
METHOD:PUBLISH
X-PUBLISHED-TTL:P3D
REFRESH-INTERVAL:P3D
CALSCALE:GREGORIAN
BEGIN:VEVENT
DTSTART;VALUE=DATE:20130504
DTEND;VALUE=DATE:20130506
TRANSP:TRANSPARENT
X-MICROSOFT-CDO-ALLDAYEVENT:TRUE
SUMMARY:Let's Go Camping Weekend
DESCRIPTION:Find out why camping should be a monthly "staycation" for your family this summer.  Stop by our camp city and make some s'mores and sample some camp recipes.  Try out metal detecting\, learn how to keep your campsite insect-free and how to keep the whole camp party clean and smelling fresh for the whole trip.  You don't want to miss this fun free event!  All event details at www.Cabelas.com/Kearney.
X-ALT-DESC;FMTTYPE=text/html:<strong><span style="color:#4f6228\;"><span style="font-size:14.0pt\;">Find out why camping should be a monthly &ldquo\;staycation&rdquo\; for your family this summer.&nbsp\; Stop by our camp city and make some s&rsquo\;mores and sample some camp recipes.&nbsp\; Try out metal detecting\, learn how to keep your campsite insect-free and how to keep the whole camp party clean and smelling fresh for the whole trip.&nbsp\; You don&rsquo\;t want to miss this fun free event!&nbsp\; All event details at <a href="http://www.Cabelas.com/Kearney">www.Cabelas.com/Kearney</a>.&nbsp\;</span></span></strong><br />\n
LOCATION:Cabela's\, 3600 E Hwy 30\, Kearney\, NE 68847 308-234-3933
UID:e.1404.2499
SEQUENCE:3
DTSTAMP:20260424T122343Z
URL:https://members.kearneycoc.org/events/details/let-s-go-camping-weekend-05-04-2013-2499
END:VEVENT

END:VCALENDAR
