BEGIN:VCALENDAR
VERSION:2.0
PRODID:-//ChamberMaster//Event Calendar 2.0//EN
METHOD:PUBLISH
X-PUBLISHED-TTL:P3D
REFRESH-INTERVAL:P3D
CALSCALE:GREGORIAN
BEGIN:VEVENT
DTSTART:20190315T143000Z
DTEND:20190316T043000Z
X-MICROSOFT-CDO-ALLDAYEVENT:FALSE
SUMMARY:Let's Go To London (by video)
DESCRIPTION:Love to travel? Then you'll want to check out this Senior College class. Samuel Johnson famously said "the man who is tired of London is tired of life." In this course we shall argue that London\, more than any other city on the planet\, catalyzed modernity. It was in London that constitutional monarchy\, participatory democracy\, a free press\, public concerts of music\, and viable commercial theatre first flourished in modern times. We shall examine London as a leader in world trade\, the capital of a rich and powerful global empire and a community that became a home to people of all nations\, all faiths\, and all political beliefs. "Let's go to London\, for there's variety."
X-ALT-DESC;FMTTYPE=text/html:Love to travel? Then you&#39\;ll want to check out this Senior College class. Samuel Johnson famously said &ldquo\;the man who is tired of London is tired of life.&rdquo\; In this course we shall argue that London\, more than any other city on the planet\, catalyzed modernity. It was in London that constitutional monarchy\, participatory democracy\, a free press\, public concerts of music\, and viable commercial theatre first flourished in modern times. We shall examine London as a leader in world trade\, the capital of a rich and powerful global empire and a community that became a home to people of all nations\, all faiths\, and all political beliefs. &ldquo\;Let&rsquo\;s go to London\, for there&rsquo\;s variety.&rdquo\;
LOCATION:St. Luke's Episcopal Church\, Kearney\, NE
UID:e.1404.15409
SEQUENCE:3
DTSTAMP:20260426T033309Z
URL:https://members.kearneycoc.org/events/details/let-s-go-to-london-by-video-15409
END:VEVENT

END:VCALENDAR
