BEGIN:VCALENDAR
VERSION:2.0
PRODID:-//ChamberMaster//Event Calendar 2.0//EN
METHOD:PUBLISH
X-PUBLISHED-TTL:P3D
REFRESH-INTERVAL:P3D
CALSCALE:GREGORIAN
BEGIN:VEVENT
DTSTART:20220331T140000Z
DTEND:20220331T150000Z
X-MICROSOFT-CDO-ALLDAYEVENT:FALSE
SUMMARY:Letting Go of Fear Webinar
DESCRIPTION:Is fear holding you back?  Join me as we explore the differences between Fear and Anxiety.  Learn how to manage and overcome fear with practical action steps to help you Let Go of Fear.
X-ALT-DESC;FMTTYPE=text/html:Is fear holding you back?&nbsp\; Join me as we explore the differences between Fear and Anxiety.&nbsp\; Learn how to manage and overcome fear with practical action steps to help you Let Go of Fear.
LOCATION:https://risingtideld.leadingthebest.com/WLGF0001
UID:e.1404.19666
SEQUENCE:3
DTSTAMP:20260423T150000Z
URL:https://members.kearneycoc.org/events/details/letting-go-of-fear-webinar-19666
END:VEVENT

END:VCALENDAR
