BEGIN:VCALENDAR
VERSION:2.0
PRODID:-//ChamberMaster//Event Calendar 2.0//EN
METHOD:PUBLISH
X-PUBLISHED-TTL:P3D
REFRESH-INTERVAL:P3D
CALSCALE:GREGORIAN
BEGIN:VEVENT
DTSTART:20150912T000000Z
DTEND:20150912T030000Z
X-MICROSOFT-CDO-ALLDAYEVENT:FALSE
SUMMARY:Light Up the Night 5K Run/Walk
DESCRIPTION:Runners will light up the night on to raise awareness and funds for mental health. The Light up the Night 5K\, organized by CHI Health Richard Young Behavioral Health Center\, encourages participants to wear brightly colored shirts to raise awareness of mental illness. Participants receive glow sticks for the run and a DJ plays music throughout the event\, designed to be fun for all ages. Registration begins at 7 p.m. and the run/walk begins at 8 p.m. Registration is $20. Proceeds of the 5K will be given to CHI Health Good Samaritan Foundation for Richard Young and NAMI. Medals will be awarded to the fastest two participants in each age bracket.
X-ALT-DESC;FMTTYPE=text/html:Runners will light up the night on to raise awareness and funds for mental health. The Light up the Night 5K\, organized by CHI Health Richard Young Behavioral Health Center\, encourages participants to wear brightly colored shirts to raise awareness of mental illness. Participants receive glow sticks for the run and a DJ plays music throughout the event\, designed to be fun for all ages. Registration begins at 7 p.m. and the run/walk begins at 8 p.m. Registration is $20. Proceeds of the 5K will be given to CHI Health Good Samaritan Foundation for Richard Young and NAMI. Medals will be awarded to the fastest two participants in each age bracket.
LOCATION:Yanney Heritage Park
UID:e.1404.6701
SEQUENCE:3
DTSTAMP:20260422T114638Z
URL:https://members.kearneycoc.org/events/details/light-up-the-night-5k-run-walk-09-11-2015-6701
END:VEVENT

END:VCALENDAR
