BEGIN:VCALENDAR
VERSION:2.0
PRODID:-//ChamberMaster//Event Calendar 2.0//EN
METHOD:PUBLISH
X-PUBLISHED-TTL:P3D
REFRESH-INTERVAL:P3D
CALSCALE:GREGORIAN
BEGIN:VEVENT
DTSTART:20160415T000000Z
DTEND:20160415T020000Z
X-MICROSOFT-CDO-ALLDAYEVENT:FALSE
SUMMARY:Live from Nashville
DESCRIPTION:Live from Nashville is a song and dance spectacular- in the tradition that gave Music City its name- a production that will leave your toes tapping\, your adrenaline pumping\, and your memories churning. Twelve musicians\, singers\, and dancers bring phenomenal fiddling\, fancy footwork\, and top-flight vocals as they celebrate country music from Patsy & Hank\, Cash\, Parton to Garth Brooks and Jason Aldean!
X-ALT-DESC;FMTTYPE=text/html:Live from Nashville is a song and dance spectacular- in the tradition that gave Music City its name- a production that will leave your toes tapping\, your adrenaline pumping\, and your memories churning. Twelve musicians\, singers\, and dancers bring phenomenal fiddling\, fancy footwork\, and top-flight vocals as they celebrate country music from Patsy &amp\; Hank\, Cash\, Parton to Garth Brooks and Jason Aldean!
LOCATION:Merryman Performing Arts Center
UID:e.1404.7038
SEQUENCE:3
DTSTAMP:20260421T215742Z
URL:https://members.kearneycoc.org/events/details/live-from-nashville-04-14-2016-7038
END:VEVENT

END:VCALENDAR
