BEGIN:VCALENDAR
VERSION:2.0
PRODID:-//ChamberMaster//Event Calendar 2.0//EN
METHOD:PUBLISH
X-PUBLISHED-TTL:P3D
REFRESH-INTERVAL:P3D
CALSCALE:GREGORIAN
BEGIN:VEVENT
DTSTART:20141122T170000Z
DTEND:20141122T180000Z
X-MICROSOFT-CDO-ALLDAYEVENT:FALSE
SUMMARY:Live Traeger Grilling Demo
DESCRIPTION:Join Traeger experts at Builders in Kearney\, and learn how to cook Thanksgiving dinner on a Traeger Grill\; from the Turkey to the pie! The Traeger grill provides the ability to smoke\, grill\, and bake. Making it the perfect solution for Thanksgiving! Cook your whole meal on a Traeger grill\, don?t worry about turning on the oven\, and forget about all those dishes.
X-ALT-DESC;FMTTYPE=text/html:Join Traeger experts at Builders in Kearney\, and learn how to cook Thanksgiving dinner on a Traeger Grill\; from the Turkey to the pie! The Traeger grill provides the ability to smoke\, grill\, and bake. Making it the perfect solution for Thanksgiving! Cook your whole meal on a Traeger grill\, don?t worry about turning on the oven\, and forget about all those dishes.
LOCATION:Builders in Kearney
UID:e.1404.5410
SEQUENCE:3
DTSTAMP:20260423T051322Z
URL:https://members.kearneycoc.org/events/details/live-traeger-grilling-demo-11-22-2014-5410
END:VEVENT

END:VCALENDAR
