BEGIN:VCALENDAR
VERSION:2.0
PRODID:-//ChamberMaster//Event Calendar 2.0//EN
METHOD:PUBLISH
X-PUBLISHED-TTL:P3D
REFRESH-INTERVAL:P3D
CALSCALE:GREGORIAN
BEGIN:VEVENT
DTSTART:20160827T130000Z
DTEND:20160827T200000Z
X-MICROSOFT-CDO-ALLDAYEVENT:FALSE
SUMMARY:LOCAL Outreach to Suicide Survivors (LOSS Of Central Nebraska) Volleyball Scramble
DESCRIPTION:Local Outreach to Suicide Survivors will have a volleyball scramble at the Big Apple in Kearney on Saturday\, Aug 27th.  4 person co-ed teams.  Prizes and lunch will be provided.  Proceeds go to support the LOSS Team of Central NE and help families that have lost a loved one to suicide.  Call Renae Zimmer at 308 708 0965 for more info.
X-ALT-DESC;FMTTYPE=text/html:Local Outreach to Suicide Survivors will have a volleyball scramble at the Big Apple in Kearney on Saturday\, Aug 27th. &nbsp\;4 person co-ed teams. &nbsp\;Prizes and lunch will be provided. &nbsp\;Proceeds go to support the LOSS Team of Central NE and help families that have lost a loved one to suicide. &nbsp\;Call Renae Zimmer at 308 708 0965 for more info.
LOCATION:Big Apple Fun Center\, Kearney NE
UID:e.1404.8931
SEQUENCE:3
DTSTAMP:20260421T153609Z
URL:https://members.kearneycoc.org/events/details/local-outreach-to-suicide-survivors-loss-of-central-nebraska-volleyball-scramble-08-27-2016-8931
END:VEVENT

END:VCALENDAR
