BEGIN:VCALENDAR
VERSION:2.0
PRODID:-//ChamberMaster//Event Calendar 2.0//EN
METHOD:PUBLISH
X-PUBLISHED-TTL:P3D
REFRESH-INTERVAL:P3D
CALSCALE:GREGORIAN
BEGIN:VEVENT
DTSTART:20190613T223000Z
DTEND:20190620T030000Z
X-MICROSOFT-CDO-ALLDAYEVENT:FALSE
SUMMARY:Longest Day - Tribute to Remember
DESCRIPTION:Joseph Hall - Elvis Concert at Ramada Tribute to Remember - Alzheimer's Fund Raiser for Research and Education in Nebraska Kearney Area. Joseph is runner up on former America's Got Talent 2014 season. He performs all over the Midwest and is the most popular YOUNG ELVIS ever! By Tickets by June 13 by calling 308 - 743-22517 or email susan@horizondesigns.com
X-ALT-DESC;FMTTYPE=text/html:Joseph Hall - Elvis Concert at Ramada Tribute to Remember - Alzheimer&#39\;s Fund Raiser for Research and Education in Nebraska Kearney Area. Joseph is runner up on former America&#39\;s Got Talent 2014 season. He performs all over the Midwest and is the most popular YOUNG ELVIS ever! By Tickets by June 13 by calling 308 - 743-22517 or email susan@horizondesigns.com
LOCATION:Ramada Inn
UID:e.1404.16518
SEQUENCE:3
DTSTAMP:20260426T003925Z
URL:https://members.kearneycoc.org/events/details/longest-day-tribute-to-remember-16518
END:VEVENT

END:VCALENDAR
