BEGIN:VCALENDAR
VERSION:2.0
PRODID:-//ChamberMaster//Event Calendar 2.0//EN
METHOD:PUBLISH
X-PUBLISHED-TTL:P3D
REFRESH-INTERVAL:P3D
CALSCALE:GREGORIAN
BEGIN:VEVENT
DTSTART:20150924T164500Z
DTEND:20150924T180000Z
X-MICROSOFT-CDO-ALLDAYEVENT:FALSE
SUMMARY:Loper Luncheon
DESCRIPTION:The Loper Luncheon features coaches and players from Kearney High\, Kearney Catholic and UNK to preview their upcoming season. The cost of admission is $5.00 per person and attendees will receive a lunch sponsored by Runza. The $5.00 cost will be the same for the rest of the year.
X-ALT-DESC;FMTTYPE=text/html:<span style="font-size:14px\;"><span style="font-family: arial\; line-height: 18px\; background-color: rgb(255\, 255\, 255)\;">The Loper Luncheon features coaches and players from Kearney High\, Kearney Catholic and UNK to preview their upcoming season. The cost of admission is $5.00 per person and attendees will receive a lunch sponsored by Runza. The $5.00 cost will be the same for the rest of the year.</span></span><br style="font-family: arial\; font-size: 12px\; line-height: 18px\; background-color: rgb(255\, 255\, 255)\;" />\n<br style="font-family: arial\; font-size: 12px\; line-height: 18px\; background-color: rgb(255\, 255\, 255)\;" />\n&nbsp\;
LOCATION:UNK Health & Sports Center East Concourse
UID:e.1404.6711
SEQUENCE:3
DTSTAMP:20260422T101328Z
URL:https://members.kearneycoc.org/events/details/loper-luncheon-09-24-2015-6711
END:VEVENT

END:VCALENDAR
