BEGIN:VCALENDAR
VERSION:2.0
PRODID:-//ChamberMaster//Event Calendar 2.0//EN
METHOD:PUBLISH
X-PUBLISHED-TTL:P3D
REFRESH-INTERVAL:P3D
CALSCALE:GREGORIAN
BEGIN:VEVENT
DTSTART:20191119T180000Z
DTEND:20191119T190000Z
X-MICROSOFT-CDO-ALLDAYEVENT:FALSE
SUMMARY:Loper Luncheon
DESCRIPTION:Loper Luncheons\n\nUNK head coaches will speak on a weekly basis to recap past games and give insights on upcoming games and meets.\n\n \n\nLocated in the Weins Room at Ron & Carol Cope Stadium at Foster Field.\n\n\n\nRunza will be available for $5.\n\n\n\nLoper fans coming onto campus are asked to park directly West or East of the Stadium and they will not be ticketed during the lunch hour.
X-ALT-DESC;FMTTYPE=text/html:<span style="color: rgb(43\, 43\, 43)\; font-family: &quot\;Open Sans&quot\;\, sans-serif\; font-size: 15px\;">Loper Luncheons<br />\nUNK head coaches will speak on a weekly basis to recap past games and give insights on upcoming games and meets.<br />\n&nbsp\;<br />\nLocated in the&nbsp\;Weins Room at Ron &amp\; Carol Cope Stadium at Foster Field.<br />\n<br />\nRunza will be available for $5.<br />\n<br />\nLoper fans coming onto campus are asked to park directly West or East of the Stadium and they will not be ticketed during the lunch hour.</span>
LOCATION:Weins Room\, (upper level)\, Ron and Carol Cope Stadium at Foster Field
UID:e.1404.17916
SEQUENCE:3
DTSTAMP:20260425T163858Z
URL:https://members.kearneycoc.org/events/details/loper-luncheon-11-19-2019-17916
END:VEVENT

END:VCALENDAR
