BEGIN:VCALENDAR
VERSION:2.0
PRODID:-//ChamberMaster//Event Calendar 2.0//EN
METHOD:PUBLISH
X-PUBLISHED-TTL:P3D
REFRESH-INTERVAL:P3D
CALSCALE:GREGORIAN
BEGIN:VEVENT
DTSTART:20150903T210000Z
DTEND:20150904T000000Z
X-MICROSOFT-CDO-ALLDAYEVENT:FALSE
SUMMARY:Loperville Tailgate
DESCRIPTION:Season Opener UNK vs. NW Missouri State. Loperville Tailgate will kick off with alcoholic & non alcoholic beverages as well as pre-game food at 4:00 just south of the stadium in the Loperville Zone.  There will be fun for all ages with a student tailgate as well as an outdoor zone for kids complete with games & inflateables. Kick off for the game is at 7 p.m.  There is lots more information at: http://www.lopers.com/news/2015/7/15/FB_0715154306.aspx or http://lopervillezones.myonlinecamp.com/.
X-ALT-DESC;FMTTYPE=text/html:<span style="color:#1F497D\;">Season Opener UNK vs. NW Missouri State.&nbsp\;Loperville Tailgate will kick off with alcoholic &amp\; non alcoholic beverages as well as pre-game food at 4:00 just south of the stadium in the Loperville Zone.&nbsp\; There will be fun for all ages with a student tailgate as well as an outdoor zone for kids complete with games &amp\; inflateables. Kick off for the game is at 7 p.m.&nbsp\; There is lots more information at: <a href="http://www.lopers.com/news/2015/7/15/FB_0715154306.aspx">http://www.lopers.com/news/2015/7/15/FB_0715154306.aspx</a> or <a href="http://lopervillezones.myonlinecamp.com/">http://lopervillezones.myonlinecamp.com/</a>.&nbsp\;</span>
LOCATION:South of UNK Foster Field in Loperville Zone
UID:e.1404.6689
SEQUENCE:3
DTSTAMP:20260422T100358Z
URL:https://members.kearneycoc.org/events/details/loperville-tailgate-09-03-2015-6689
END:VEVENT

END:VCALENDAR
