BEGIN:VCALENDAR
VERSION:2.0
PRODID:-//ChamberMaster//Event Calendar 2.0//EN
METHOD:PUBLISH
X-PUBLISHED-TTL:P3D
REFRESH-INTERVAL:P3D
CALSCALE:GREGORIAN
BEGIN:VEVENT
DTSTART;VALUE=DATE:20140808
DTEND;VALUE=DATE:20140809
TRANSP:TRANSPARENT
X-MICROSOFT-CDO-ALLDAYEVENT:TRUE
SUMMARY:LOSS Team Golf Tournament
DESCRIPTION:LOSS Team of Kearney stands for Local Outreach to Suicide Supporters is just beginnig in Kearney Neb. This is the 1st Annual Dave Griek Golf Tournament at Awarii Dunes to support this group.
X-ALT-DESC;FMTTYPE=text/html:LOSS Team of Kearney stands for Local Outreach to Suicide Supporters is just beginnig in Kearney Neb. This is the 1st Annual Dave Griek Golf Tournament at Awarii Dunes to support this group.
LOCATION:Awarii Dunes Golf Course
UID:e.1404.5157
SEQUENCE:3
DTSTAMP:20260423T101304Z
URL:https://members.kearneycoc.org/events/details/loss-team-golf-tournament-08-08-2014-5157
END:VEVENT

END:VCALENDAR
