BEGIN:VCALENDAR
VERSION:2.0
PRODID:-//ChamberMaster//Event Calendar 2.0//EN
METHOD:PUBLISH
X-PUBLISHED-TTL:P3D
REFRESH-INTERVAL:P3D
CALSCALE:GREGORIAN
BEGIN:VEVENT
DTSTART:20190413T130000Z
DTEND:20190413T170000Z
X-MICROSOFT-CDO-ALLDAYEVENT:FALSE
SUMMARY:LPAC's Fun 5K Walk/Run
DESCRIPTION:Sponsored by the Loper Programming and Activities Council\, the Fun 5K Walk/Run\, which is open to anyone\, regularly attracts 200-300 participants and raises thousands of dollars for UNK's Student Leadership Scholarship fund. Participants receive a T-shirt and there are drawings for prizes donated by sponsors. Check-in begins at 8:00 am and the 5k will begin at 9 a.m. Online registration will end April 12\, 2019 at 4 p.m. Participants are guaranteed a free t-shirt if registration is received by April 5th. Entry fee is non-refundable.
X-ALT-DESC;FMTTYPE=text/html:Sponsored by the Loper Programming and Activities Council\, the Fun 5K Walk/Run\, which is open to anyone\, regularly attracts 200-300 participants and raises thousands of dollars for UNK&#39\;s Student Leadership Scholarship fund. Participants receive a T-shirt and there are drawings for prizes donated by sponsors. Check-in begins at 8:00 am and the 5k will begin at 9 a.m. Online registration will end April 12\, 2019 at 4 p.m. Participants are guaranteed a free t-shirt if registration is received by April 5th. Entry fee is non-refundable.
LOCATION:UNK Campus
UID:e.1404.15436
SEQUENCE:3
DTSTAMP:20260426T020424Z
URL:https://members.kearneycoc.org/events/details/lpac-s-fun-5k-walk-run-15436
END:VEVENT

END:VCALENDAR
