BEGIN:VCALENDAR
VERSION:2.0
PRODID:-//ChamberMaster//Event Calendar 2.0//EN
METHOD:PUBLISH
X-PUBLISHED-TTL:P3D
REFRESH-INTERVAL:P3D
CALSCALE:GREGORIAN
BEGIN:VEVENT
DTSTART:20130801T170000Z
DTEND:20130801T180000Z
X-MICROSOFT-CDO-ALLDAYEVENT:FALSE
SUMMARY:Lunch and Learn - Health Care Act and SBA Loans
DESCRIPTION:Take the Mystery out of U.S. Small Business Loan Prgrams\; Details on the new Health Care Law\n\n	August 1\, 2013\n\n	Noon-1:00pm\n\n	Kearney Chamber\n\n	Cost: $15.00\n\n	Lunch is provided \n\n	\n\n	Presented By:  Michael Foutch\, Economic Development Specialist\n\n	The Small Business Administration's Nebraska District Office will sponsor a one-hour  seminar designed to take the mystery out of the process of applying for federally-guaranteed small business loans. "Take the Mystery out of SBA Loans" is scheduled for August 1 at noon at the Kearney Chamber of Commerce\, 1007 2nd Ave. The session also will cover provisions of the Affordable Care Act\, and how the law affects small business owners and employees.\n\n	This seminar is particularly timely as the summer will see many small business owners seek financing to expand and create jobs\, and entrepreneurs resolve to take the steps to create a new business.\n\n	An important source of financing for entrepreneurs is the SBA guaranteed loan program. The SBA provides short- and long-term guaranteed loans to eligible\, credit-worthy start-ups and existing small businesses that cannot obtain financing on reasonable terms through normal lending channels. SBA provides a number of loan programs for most small business needs. \n\n	To reserve your seat contact Leslie Means at lmeans@kearneycoc.org or call the chamber at (308) 237-3101.
X-ALT-DESC;FMTTYPE=text/html:<h3 style="color: rgb(0\, 51\, 102)\; font-family: Helvetica\, Arial\, sans-serif\; background-color: rgb(245\, 245\, 245)\;">\n	<span style="text-decoration: underline\;">Take the Mystery out of U.S. Small Business Loan Prgrams\; Details on the new Health Care Law</span></h3>\n<p style="color: rgb(0\, 51\, 102)\; font-family: Helvetica\, Arial\, sans-serif\; background-color: rgb(245\, 245\, 245)\;">\n	August 1\, 2013<br />\n	Noon-1:00pm<br />\n	Kearney Chamber<br />\n	Cost: $15.00<br />\n	Lunch is provided&nbsp\;<br />\n	<br />\n	Presented By: &nbsp\;Michael Foutch\, Economic Development Specialist</p>\n<p style="color: rgb(0\, 51\, 102)\; font-family: Helvetica\, Arial\, sans-serif\; background-color: rgb(245\, 245\, 245)\;">\n	The Small Business Administration&rsquo\;s Nebraska District Office will sponsor a one-hour &nbsp\;seminar designed to take the mystery out of the process of applying for federally-guaranteed small business loans. &ldquo\;<strong>Take the Mystery out of SBA Loans</strong>&rdquo\; is scheduled for August 1 at noon at the Kearney Chamber of Commerce\, 1007 2nd Ave. The session also will cover provisions of the Affordable Care Act\, and how the law affects small business owners and employees.</p>\n<p style="color: rgb(0\, 51\, 102)\; font-family: Helvetica\, Arial\, sans-serif\; background-color: rgb(245\, 245\, 245)\;">\n	This seminar is particularly timely as the summer will see many small business owners seek financing to expand and create jobs\, and entrepreneurs resolve to take the steps to create a new business.</p>\n<p style="color: rgb(0\, 51\, 102)\; font-family: Helvetica\, Arial\, sans-serif\; background-color: rgb(245\, 245\, 245)\;">\n	An important source of financing for entrepreneurs is the SBA guaranteed loan program. The SBA provides short- and long-term guaranteed loans to eligible\, credit-worthy start-ups and existing small businesses that cannot obtain financing on reasonable terms through normal lending channels. SBA provides a number of loan programs for most small business needs.&nbsp\;</p>\n<p style="color: rgb(0\, 51\, 102)\; font-family: Helvetica\, Arial\, sans-serif\; background-color: rgb(245\, 245\, 245)\;">\n	To reserve your seat contact Leslie Means at lmeans@kearneycoc.org or call the chamber at (308) 237-3101. &nbsp\;</p>\n
LOCATION:
UID:e.1404.3251
SEQUENCE:3
DTSTAMP:20260424T040135Z
URL:https://members.kearneycoc.org/events/details/lunch-and-learn-health-care-act-and-sba-loans-08-01-2013-3251
END:VEVENT

END:VCALENDAR
