BEGIN:VCALENDAR
VERSION:2.0
PRODID:-//ChamberMaster//Event Calendar 2.0//EN
METHOD:PUBLISH
X-PUBLISHED-TTL:P3D
REFRESH-INTERVAL:P3D
CALSCALE:GREGORIAN
BEGIN:VEVENT
DTSTART:20220622T170000Z
DTEND:20220622T180000Z
X-MICROSOFT-CDO-ALLDAYEVENT:FALSE
SUMMARY:Lunch & Learn with Hamilton Telecommunications
DESCRIPTION:Join us for a lunch 'n learn with Hamilton Telecommunications!
X-ALT-DESC;FMTTYPE=text/html:Join us for a lunch &#39\;n learn with Hamilton Telecommunications!&nbsp\;
LOCATION:The Crafty Dog 1325 2nd Ave. Kearney\, NE 68845
UID:e.1404.19750
SEQUENCE:3
DTSTAMP:20260423T103516Z
URL:https://members.kearneycoc.org/events/details/lunch-learn-with-hamilton-telecommunications-19750
END:VEVENT

END:VCALENDAR
