BEGIN:VCALENDAR
VERSION:2.0
PRODID:-//ChamberMaster//Event Calendar 2.0//EN
METHOD:PUBLISH
X-PUBLISHED-TTL:P3D
REFRESH-INTERVAL:P3D
CALSCALE:GREGORIAN
BEGIN:VEVENT
DTSTART:20160402T000000Z
DTEND:20160402T013000Z
X-MICROSOFT-CDO-ALLDAYEVENT:FALSE
SUMMARY:Lynn Trefzger: Ventriloquist
DESCRIPTION:Lynn\, a self-taught ventriloquist\, brings together amazing figure manipulation and exceptional vocal skills to create a fascinating comedy act which delights young and old throughout the country.
X-ALT-DESC;FMTTYPE=text/html:Lynn\, a self-taught ventriloquist\, brings together amazing figure manipulation and exceptional vocal skills to create a fascinating comedy act which delights young and old throughout the country.
LOCATION:Merryman Performing Arts Center
UID:e.1404.7042
SEQUENCE:3
DTSTAMP:20260421T214719Z
URL:https://members.kearneycoc.org/events/details/lynn-trefzger-ventriloquist-04-01-2016-7042
END:VEVENT

END:VCALENDAR
