BEGIN:VCALENDAR
VERSION:2.0
PRODID:-//ChamberMaster//Event Calendar 2.0//EN
METHOD:PUBLISH
X-PUBLISHED-TTL:P3D
REFRESH-INTERVAL:P3D
CALSCALE:GREGORIAN
BEGIN:VEVENT
DTSTART:20150815T170000Z
DTEND:20150816T000000Z
X-MICROSOFT-CDO-ALLDAYEVENT:FALSE
SUMMARY:Make-A-Wish Roll-N-Ride
DESCRIPTION:The Roll-N-Ride is an Annual Poker run that Kearney Powersports organizes & hosts to raise funds for the Nebraska Chapter of the Make-A-Wish foundation. This event has grown each and every year from around 100 the first year to about 400 participants this year! Over $15\,000 was raised during 2014's Roll 'N Ride. It is amazing to participate in and equally amazing to see the support of all the riders and volunteers that come back year after year for this event. The route is approximately 170 miles this year. Participants register starting at noon and leave from Kearney Powersports at approximately 1pm with a police escort. Each registrant gets a packet of information and a doorprize. There are 4 stops on the route where participants pick up one of our sponsor's business cards. The final stop is Kearney Powersports where you will present all four of your business cards and roll the dice for your Poker hand. A $100 Kearney Powersports gift card will be given for the high hand and the low hand at the end of the evening. A meal is served to all participants upon their return to Kearney Powersports. Raffle prizes are awarded once riders arrive at Kearney Powersports. For more information and to pre-register for the ride: http://www.kearneypowersports.com/roll_n_ride.htm
X-ALT-DESC;FMTTYPE=text/html:The Roll-N-Ride is an Annual Poker run that Kearney Powersports organizes &amp\; hosts to raise funds for the Nebraska Chapter of the Make-A-Wish foundation. This event has grown each and every year from around 100 the first year to about 400 participants this year! Over $15\,000 was raised during 2014&#39\;s Roll &#39\;N Ride. It is amazing to participate in and equally amazing to see the support of all the riders and volunteers that come back year after year for this event. The route is approximately 170 miles this year. Participants register starting at noon and leave from Kearney Powersports at approximately 1pm with a police escort. Each registrant gets a packet of information and a doorprize. There are 4 stops on the route where participants pick up one of our sponsor&#39\;s business cards. The final stop is Kearney Powersports where you will present all four of your business cards and roll the dice for your Poker hand. A $100 Kearney Powersports gift card will be given for the high hand and the low hand at the end of the evening. A meal is served to all participants upon their return to Kearney Powersports. Raffle prizes are awarded once riders arrive at Kearney Powersports. For more information and to pre-register for the ride: http://www.kearneypowersports.com/roll_n_ride.htm
LOCATION:Kearney Powersports 511 S. 2nd Ave. Kearney\, NE 68847
UID:e.1404.6671
SEQUENCE:3
DTSTAMP:20260422T114428Z
URL:https://members.kearneycoc.org/events/details/make-a-wish-roll-n-ride-08-15-2015-6671
END:VEVENT

END:VCALENDAR
