BEGIN:VCALENDAR
VERSION:2.0
PRODID:-//ChamberMaster//Event Calendar 2.0//EN
METHOD:PUBLISH
X-PUBLISHED-TTL:P3D
REFRESH-INTERVAL:P3D
CALSCALE:GREGORIAN
BEGIN:VEVENT
DTSTART:20160509T223000Z
DTEND:20160509T233000Z
X-MICROSOFT-CDO-ALLDAYEVENT:FALSE
SUMMARY:Making Connections Community Conversation
DESCRIPTION:A Statewide effort to help shape an action plan for\n\nNebraska veterans and their families.\n\n \n\nAre you a military veteran family member of a post 9/11 veteran? Would you like to contribute to improving community services for family members and veterans? To reserve your spot or to answer any questions.\n\nContact Lisa Steele at 308-995-4778 or \n\n308-991-0317\n\n \n\nSnacks will be provided and a variety of door prizes with a chance to enter a drawing for ONE OF 2 $50 Gift Cards.\n\nGas reimbursement will be available for those travelling more than 20 miles from home residence to meetings.
X-ALT-DESC;FMTTYPE=text/html:<em><span style="color:#2A2F87\;"><span style="font-family:times new roman\,serif\;"><span style="font-size:19.5pt\;">A Statewide ef<span style="letter-spacing:1.2pt\;">f</span>ort to help shape an action plan for</span></span></span></em><br />\n<em><span style="color:#2A2F87\;"><span style="font-family:times new roman\,serif\;"><span style="font-size:19.5pt\;">Nebraska</span></span></span></em> <em><span style="color:#2A2F87\;"><span style="font-family:times new roman\,serif\;"><span style="font-size:19.5pt\;">veterans and thei<span style="letter-spacing:1.45pt\;">r </span>fa<span style="letter-spacing:-.3pt\;">m</span><span style="letter-spacing:-1.1pt\;">i</span>lies.</span></span></span></em><br />\n&nbsp\;<br />\n<span style="color:#231F1F\;">Are you a military veteran family member of a post 9/<span style="letter-spacing:-.95pt\;">11 </span>veteran? Would you like to</span> <span style="color:#231F1F\;">contribute to improving community services for family members and veterans? <span style="letter-spacing:-.5pt\;">To</span> reserve</span> <span style="color:#231F1F\;">your spot or to answer any questions.</span><br />\n<span style="color:#231F1F\;">Contact Lisa Steele at 308-995-4778 or </span><br />\n<span style="color:#231F1F\;">308-991-0317</span><br />\n&nbsp\;<br />\n<span style="color:#231F1F\;">Snacks will be provided and a variety of door prizes with a chance to enter a drawing for</span> <span style="color:#2A2F87\;">ONE OF 2 $50 <span style="letter-spacing:-.1pt\;">Gift</span> Cards.</span><br />\n<span style="color:#231F1F\;">Gas reimbursement will be available for those travelling more than 20 miles from home</span> <span style="color:#231F1F\;">residence to meetings.</span>
LOCATION:Kearney Public Library 2020 1st Avenue Kearney\, NE 68847
UID:e.1404.8744
SEQUENCE:3
DTSTAMP:20260421T213846Z
URL:https://members.kearneycoc.org/events/details/making-connections-community-conversation-05-09-2016-8744
END:VEVENT

END:VCALENDAR
