BEGIN:VCALENDAR
VERSION:2.0
PRODID:-//ChamberMaster//Event Calendar 2.0//EN
METHOD:PUBLISH
X-PUBLISHED-TTL:P3D
REFRESH-INTERVAL:P3D
CALSCALE:GREGORIAN
BEGIN:VEVENT
DTSTART:20161031T230000Z
DTEND:20161101T020000Z
X-MICROSOFT-CDO-ALLDAYEVENT:FALSE
SUMMARY:Mall Wide Trick-or-Treating
DESCRIPTION:Happy Halloween! Visit the Hilltop Mall for mall wide trick-or-treating on Monday October 31st from 6pm-9pm. Stop at participating mall stores for a free treat and have a safe and happy Halloween!
X-ALT-DESC;FMTTYPE=text/html:Happy Halloween! Visit the Hilltop Mall for mall wide trick-or-treating on Monday October 31st from 6pm-9pm. Stop at participating mall stores for a free treat and have a safe and happy Halloween!
LOCATION:Hilltop Mall 5011 2nd Ave Kearney NE 68847
UID:e.1404.9071
SEQUENCE:3
DTSTAMP:20260421T140253Z
URL:https://members.kearneycoc.org/events/details/mall-wide-trick-or-treating-9071
END:VEVENT

END:VCALENDAR
