BEGIN:VCALENDAR
VERSION:2.0
PRODID:-//ChamberMaster//Event Calendar 2.0//EN
METHOD:PUBLISH
X-PUBLISHED-TTL:P3D
REFRESH-INTERVAL:P3D
CALSCALE:GREGORIAN
BEGIN:VEVENT
DTSTART:20140911T000000Z
DTEND:20140911T020000Z
X-MICROSOFT-CDO-ALLDAYEVENT:FALSE
SUMMARY:Mama's Wranglers Fundraising Concert
DESCRIPTION:Hope you can join us at this knee-slapping\, toe-tapping\, sing-a-long\, family-friendly concert with Mama's Wranglers from Las Vegas on Wednesday\, September 10th in the Elm Creek School Gym at 7:00. This is a fundraiser to assist Sage Martin in her quest to go to Europe next summer with the Nebraska Ambassadors of Music. Thanks for supporting our students and music!! Adult tickets are $10 and students are $5. Little ones are free. Contact Kyla Martin for more info. 308-440-7964. Thanks!
X-ALT-DESC;FMTTYPE=text/html:Hope you can join us at this knee-slapping\, toe-tapping\, sing-a-long\, family-friendly concert with Mama&#39\;s Wranglers from Las Vegas on Wednesday\, September 10th in the Elm Creek School Gym at 7:00. This is a fundraiser to assist Sage Martin in her quest to go to Europe next summer with the Nebraska Ambassadors of Music. Thanks for supporting our students and music!! Adult tickets are $10 and students are $5. Little ones are free. Contact Kyla Martin for more info. 308-440-7964. Thanks!
LOCATION:Elm Creek School Gym
UID:e.1404.5312
SEQUENCE:3
DTSTAMP:20260423T070247Z
URL:https://members.kearneycoc.org/events/details/mama-s-wranglers-fundraising-concert-09-10-2014-5312
END:VEVENT

END:VCALENDAR
