BEGIN:VCALENDAR
VERSION:2.0
PRODID:-//ChamberMaster//Event Calendar 2.0//EN
METHOD:PUBLISH
X-PUBLISHED-TTL:P3D
REFRESH-INTERVAL:P3D
CALSCALE:GREGORIAN
BEGIN:VEVENT
DTSTART:20150421T223000Z
DTEND:20150422T000000Z
X-MICROSOFT-CDO-ALLDAYEVENT:FALSE
SUMMARY:MarkeTECH Conference Reception
DESCRIPTION:MarkeTECH Conference reception to be held at Thunderhead Brewing.
X-ALT-DESC;FMTTYPE=text/html:MarkeTECH Conference reception to be held at Thunderhead Brewing.
LOCATION:Thunderhead Brewing Downtown Kearney
UID:e.1404.6172
SEQUENCE:3
DTSTAMP:20260422T182034Z
URL:https://members.kearneycoc.org/events/details/marketech-conference-reception-04-21-2015-6172
END:VEVENT

END:VCALENDAR
