BEGIN:VCALENDAR
VERSION:2.0
PRODID:-//ChamberMaster//Event Calendar 2.0//EN
METHOD:PUBLISH
X-PUBLISHED-TTL:P3D
REFRESH-INTERVAL:P3D
CALSCALE:GREGORIAN
BEGIN:VEVENT
DTSTART:20150421T180000Z
DTEND:20150421T223000Z
X-MICROSOFT-CDO-ALLDAYEVENT:FALSE
SUMMARY:MarkeTECH Pre-Conference
DESCRIPTION:The MarkeTECH pre-conference will focus on online security and cash flow for business. There will also be one-on-one time with resource providers to help assist businesses in answering questions on business plans\, financials and other business topics
X-ALT-DESC;FMTTYPE=text/html:The MarkeTECH pre-conference will focus on online security and cash flow for business. There will also be one-on-one time with resource providers to help assist businesses in answering questions on business plans\, financials and other business topics
LOCATION:Holiday Inn Convention Center
UID:e.1404.6170
SEQUENCE:3
DTSTAMP:20260422T182135Z
URL:https://members.kearneycoc.org/events/details/marketech-pre-conference-04-21-2015-6170
END:VEVENT

END:VCALENDAR
