BEGIN:VCALENDAR
VERSION:2.0
PRODID:-//ChamberMaster//Event Calendar 2.0//EN
METHOD:PUBLISH
X-PUBLISHED-TTL:P3D
REFRESH-INTERVAL:P3D
CALSCALE:GREGORIAN
BEGIN:VEVENT
DTSTART:20190618T180000Z
DTEND:20190618T190000Z
X-MICROSOFT-CDO-ALLDAYEVENT:FALSE
SUMMARY:Medicare Education Kearney Library
DESCRIPTION:Krull Agency of Minden is Hosting a public event to help answer all of your questions about Medicare. What it covers\, doesn't cover and how you can fill those gaps. Whether you are already on Medicare or just getting started we are here to help.
X-ALT-DESC;FMTTYPE=text/html:Krull Agency of Minden is Hosting a public event to help answer all of your questions about Medicare. What it covers\, doesn&#39\;t cover and how you can fill those gaps. Whether you are already on Medicare or just getting started we are here to help.
LOCATION:Kearney Public Library in the Loup meeting room
UID:e.1404.16546
SEQUENCE:3
DTSTAMP:20260425T231019Z
URL:https://members.kearneycoc.org/events/details/medicare-education-kearney-library-16546
END:VEVENT

END:VCALENDAR
