BEGIN:VCALENDAR
VERSION:2.0
PRODID:-//ChamberMaster//Event Calendar 2.0//EN
METHOD:PUBLISH
X-PUBLISHED-TTL:P3D
REFRESH-INTERVAL:P3D
CALSCALE:GREGORIAN
BEGIN:VEVENT
DTSTART:20140917T163000Z
DTEND:20140917T180000Z
X-MICROSOFT-CDO-ALLDAYEVENT:FALSE
SUMMARY:Member Orientation
DESCRIPTION:Join the Chamber staff for a member orientation.  Whether you're a brand new Chamber member\, or a long time member who is looking for a refresher on all the services we offer\, this is the perfect opportunity for you to see what the Chamber is all about. In addition\, this gives you an amazing opportunity to tell us more about your business\, your business needs and goals!
X-ALT-DESC;FMTTYPE=text/html:Join the Chamber staff for a member orientation. &nbsp\;Whether you&#39\;re a brand new Chamber member\, or a long time member who is looking for a refresher on all the services we offer\, this is the perfect opportunity for you to see what the Chamber is all about. In addition\, this gives you an amazing opportunity to tell us more about your business\, your business needs and goals!
LOCATION:Kearney Chamber of Commerce 1007 2nd Avenue Board Room
UID:e.1404.5011
SEQUENCE:3
DTSTAMP:20260423T083344Z
URL:https://members.kearneycoc.org/events/details/member-orientation-09-17-2014-5011
END:VEVENT

END:VCALENDAR
