BEGIN:VCALENDAR
VERSION:2.0
PRODID:-//ChamberMaster//Event Calendar 2.0//EN
METHOD:PUBLISH
X-PUBLISHED-TTL:P3D
REFRESH-INTERVAL:P3D
CALSCALE:GREGORIAN
BEGIN:VEVENT
DTSTART;VALUE=DATE:20150304
DTEND;VALUE=DATE:20150305
TRANSP:TRANSPARENT
X-MICROSOFT-CDO-ALLDAYEVENT:TRUE
SUMMARY:Membership 180
DESCRIPTION:Membership Drive Campaign Meeting
X-ALT-DESC;FMTTYPE=text/html:Membership Drive Campaign Meeting
LOCATION:Board Room of the Kearney Area Chamber of Commerce 1007 2nd Avenue
UID:e.1404.6002
SEQUENCE:3
DTSTAMP:20260422T195742Z
URL:https://members.kearneycoc.org/events/details/membership-180-03-04-2015-6002
END:VEVENT

END:VCALENDAR
