BEGIN:VCALENDAR
VERSION:2.0
PRODID:-//ChamberMaster//Event Calendar 2.0//EN
METHOD:PUBLISH
X-PUBLISHED-TTL:P3D
REFRESH-INTERVAL:P3D
CALSCALE:GREGORIAN
BEGIN:VEVENT
DTSTART:20140221T003000Z
DTEND:20140221T030000Z
X-MICROSOFT-CDO-ALLDAYEVENT:FALSE
SUMMARY:Men in Tights Gala
DESCRIPTION:A satirical beauty contest featuring male personalities from the area\n\n	competing in evening wear and talent. With hopes of being crowned
X-ALT-DESC;FMTTYPE=text/html:<div>\n	A satirical beauty contest featuring male personalities from the area</div>\n<div>\n	competing in evening wear and talent. With hopes of being crowned</div>\n
LOCATION:Younes Conference Center
UID:e.1404.4480
SEQUENCE:3
DTSTAMP:20260423T195436Z
URL:https://members.kearneycoc.org/events/details/men-in-tights-gala-02-20-2014-4480
END:VEVENT

END:VCALENDAR
