BEGIN:VCALENDAR
VERSION:2.0
PRODID:-//ChamberMaster//Event Calendar 2.0//EN
METHOD:PUBLISH
X-PUBLISHED-TTL:P3D
REFRESH-INTERVAL:P3D
CALSCALE:GREGORIAN
BEGIN:VEVENT
DTSTART:20190129T160000Z
DTEND:20190331T220000Z
X-MICROSOFT-CDO-ALLDAYEVENT:FALSE
SUMMARY:MONA Archives
DESCRIPTION:MONA Archives January 29   March 31\, 2019 This exhibition features items from MONA's archival and ephemera collection. While not often on view\, these objects\, letters of correspondence\, and photographs give a broadened view of artists in the collection.
X-ALT-DESC;FMTTYPE=text/html:MONA Archives January 29 &ndash\; March 31\, 2019 This exhibition features items from MONA&rsquo\;s archival and ephemera collection. While not often on view\, these objects\, letters of correspondence\, and photographs give a broadened view of artists in the collection.
LOCATION:Museum of Nebraska Art 2401 Central Avenue Kearney\, NE 68847
UID:e.1404.14430
SEQUENCE:3
DTSTAMP:20260426T032951Z
URL:https://members.kearneycoc.org/events/details/mona-archives-14430
END:VEVENT

END:VCALENDAR
