BEGIN:VCALENDAR
VERSION:2.0
PRODID:-//ChamberMaster//Event Calendar 2.0//EN
METHOD:PUBLISH
X-PUBLISHED-TTL:P3D
REFRESH-INTERVAL:P3D
CALSCALE:GREGORIAN
BEGIN:VEVENT
DTSTART:20190409T150000Z
DTEND:20190714T220000Z
X-MICROSOFT-CDO-ALLDAYEVENT:FALSE
SUMMARY:MONA: There’s an App for That 2.0
DESCRIPTION:MONA: There's an App for That 2.0 April 9   July 14\, 2019 Launching its mobile app in 2017\, the Museum continues to add content. Viewers browse through highlights from MONA's permanent collection\, listen to audio commentary\, peruse a guide on how to look at art\, and take a quiz. This exhibition features the second selection of works for the MONA app   significant collection pieces including those by artists Kent Bellows\, Aaron Douglas\, Gertrude Kasebier\, and Ed Ruscha. The MONA app is available to download FREE from the Apple App Store and Google Play. The MONA app development is funded by the Nebraska Tourism Commission and by Steve and Jennifer Homan with their daughters Claire\, Samantha\, and Mia.
X-ALT-DESC;FMTTYPE=text/html:MONA: There&rsquo\;s an App for That 2.0 April 9 &ndash\; July 14\, 2019 Launching its mobile app in 2017\, the Museum continues to add content. Viewers browse through highlights from MONA&rsquo\;s permanent collection\, listen to audio commentary\, peruse a guide on how to look at art\, and take a quiz. This exhibition features the second selection of works for the MONA app &ndash\; significant collection pieces including those by artists Kent Bellows\, Aaron Douglas\, Gertrude Kasebier\, and Ed Ruscha. The MONA app is available to download FREE from the Apple App Store and Google Play. The MONA app development is funded by the Nebraska Tourism Commission and by Steve and Jennifer Homan with their daughters Claire\, Samantha\, and Mia.
LOCATION:Museum of Nebraska Art 2401 Central Avenue Kearney\, NE 68847
UID:e.1404.14434
SEQUENCE:3
DTSTAMP:20260425T231019Z
URL:https://members.kearneycoc.org/events/details/mona-there-s-an-app-for-that-2-0-14434
END:VEVENT

END:VCALENDAR
