BEGIN:VCALENDAR
VERSION:2.0
PRODID:-//ChamberMaster//Event Calendar 2.0//EN
METHOD:PUBLISH
X-PUBLISHED-TTL:P3D
REFRESH-INTERVAL:P3D
CALSCALE:GREGORIAN
BEGIN:VEVENT
DTSTART:20190322T130000Z
DTEND:20190322T140000Z
X-MICROSOFT-CDO-ALLDAYEVENT:FALSE
SUMMARY:Morning Legislative Report
DESCRIPTION:Morning Legislative Report
X-ALT-DESC;FMTTYPE=text/html:Morning Legislative Report
LOCATION:Chamber Board Room
UID:e.1404.14460
SEQUENCE:3
DTSTAMP:20260426T033026Z
URL:https://members.kearneycoc.org/events/details/morning-legislative-report-14460
END:VEVENT

END:VCALENDAR
