BEGIN:VCALENDAR
VERSION:2.0
PRODID:-//ChamberMaster//Event Calendar 2.0//EN
METHOD:PUBLISH
X-PUBLISHED-TTL:P3D
REFRESH-INTERVAL:P3D
CALSCALE:GREGORIAN
BEGIN:VEVENT
DTSTART:20190306T150000Z
DTEND:20190306T160000Z
X-MICROSOFT-CDO-ALLDAYEVENT:FALSE
SUMMARY:Morning Mingle for Members
DESCRIPTION:Who's joining us for Morning Mingle?\n\nWho: KACM Members\n\nWhen: First Wednesday of the month\, 9:00-10:00 am \n\nWhat: Exclusive access to the museum before we "officially" open the doors\, plus coffee\, chai\, & muffins from Barista's Daily Grind! \n\nWhy: Because we LOVE our members!
X-ALT-DESC;FMTTYPE=text/html:<span style="background-color:rgb(255\, 255\, 255)\; color:rgb(29\, 33\, 41)\; font-family:helvetica\,arial\,sans-serif\; font-size:14px">Who&#39\;s joining us for Morning Mingle?</span><br />\n<span style="background-color:rgb(255\, 255\, 255)\; color:rgb(29\, 33\, 41)\; font-family:helvetica\,arial\,sans-serif\; font-size:14px">Who: KACM Members</span><br />\n<span style="background-color:rgb(255\, 255\, 255)\; color:rgb(29\, 33\, 41)\; font-family:helvetica\,arial\,sans-serif\; font-size:14px">When: First Wednesday of the month\, 9:00-10:00 am </span><br />\n<span style="background-color:rgb(255\, 255\, 255)\; color:rgb(29\, 33\, 41)\; font-family:helvetica\,arial\,sans-serif\; font-size:14px">What: Exclusive access to the museum before we &quot\;officially&quot\; open the doors\, plus coffee\, chai\, &amp\; muffins from Barista&#39\;s Daily Grind! </span><br />\n<span style="background-color:rgb(255\, 255\, 255)\; color:rgb(29\, 33\, 41)\; font-family:helvetica\,arial\,sans-serif\; font-size:14px">Why: Because we LOVE our members!</span>
LOCATION:Kearney Area Children's Museum The Alia Arram Memorial Building 5827 4th Avenue\, Kearney\, NE 68845
UID:e.1404.15415
SEQUENCE:3
DTSTAMP:20260426T033053Z
URL:https://members.kearneycoc.org/events/details/morning-mingle-for-members-15415
END:VEVENT

END:VCALENDAR
