BEGIN:VCALENDAR
VERSION:2.0
PRODID:-//ChamberMaster//Event Calendar 2.0//EN
METHOD:PUBLISH
X-PUBLISHED-TTL:P3D
REFRESH-INTERVAL:P3D
CALSCALE:GREGORIAN
BEGIN:VEVENT
DTSTART:20191125T010000Z
DTEND:20191125T030000Z
X-MICROSOFT-CDO-ALLDAYEVENT:FALSE
SUMMARY:Moscow Ballet
DESCRIPTION:Moscow Ballet presents Great Russian Nutcracker! Kick off the holiday season with spectacular sets\, beautiful costuming\, and professional dancing.
X-ALT-DESC;FMTTYPE=text/html:Moscow Ballet presents Great Russian Nutcracker! Kick off the holiday season with spectacular sets\, beautiful costuming\, and professional dancing.
LOCATION:Merryman Performing Arts Center Kearney\, NE
UID:e.1404.15963
SEQUENCE:3
DTSTAMP:20260425T163601Z
URL:https://members.kearneycoc.org/events/details/moscow-ballet-15963
END:VEVENT

END:VCALENDAR
