BEGIN:VCALENDAR
VERSION:2.0
PRODID:-//ChamberMaster//Event Calendar 2.0//EN
METHOD:PUBLISH
X-PUBLISHED-TTL:P3D
REFRESH-INTERVAL:P3D
CALSCALE:GREGORIAN
BEGIN:VEVENT
DTSTART:20150509T150000Z
DTEND:20150509T170000Z
X-MICROSOFT-CDO-ALLDAYEVENT:FALSE
SUMMARY:Mother's Day Garden Event
DESCRIPTION:Hilltop Mall and Kaw Valley Greenhouses are teaming up to host a Mother's Day Garden event the day before Mother's Day to celebrate Mom's. Attendees will have the opportunity to learn from plant and garden experts about the secrets of container gardening\, receive recommendations\, and get personalized answers to all of their gardening questions. Kids under 12 that attend will receive a free plant and have the opportunity to pot it at out potting table. These potted plants will make great gifts for mom. Attendees will also have a chance to win a necklace from Riddle's Jewelry and Hilltop Mall and Kaw Valley Gift Cards-over $400 worth of prizes! The mall will also be giving away 30 goodie bags from mall stories to the first attendees. The event is located at the Kaw Valley tent in the Hilltop Mall parking lot. In the event of bad weather\, the event will take place in center court of the mall. For more information on the event\, you may contact the mall office at 308-236-9798 or go online to www.shophilltopmall.com
X-ALT-DESC;FMTTYPE=text/html:Hilltop Mall and Kaw Valley Greenhouses are teaming up to host a Mother&#39\;s Day Garden event the day before Mother&#39\;s Day to celebrate Mom&#39\;s. Attendees will have the opportunity to learn from plant and garden experts about the secrets of container gardening\, receive recommendations\, and get personalized answers to all of their gardening questions. Kids under 12 that attend will receive a free plant and have the opportunity to pot it at out potting table. These potted plants will make great gifts for mom. Attendees will also have a chance to win a necklace from Riddle&#39\;s Jewelry and Hilltop Mall and Kaw Valley Gift Cards-over $400 worth of prizes! The mall will also be giving away 30 goodie bags from mall stories to the first attendees. The event is located at the Kaw Valley tent in the Hilltop Mall parking lot. In the event of bad weather\, the event will take place in center court of the mall. For more information on the event\, you may contact the mall office at 308-236-9798 or go online to www.shophilltopmall.com
LOCATION:Kaw Valley tent in the Hilltop Mall parking lot
UID:e.1404.6236
SEQUENCE:3
DTSTAMP:20260422T165228Z
URL:https://members.kearneycoc.org/events/details/mother-s-day-garden-event-05-09-2015-6236
END:VEVENT

END:VCALENDAR
