BEGIN:VCALENDAR
VERSION:2.0
PRODID:-//ChamberMaster//Event Calendar 2.0//EN
METHOD:PUBLISH
X-PUBLISHED-TTL:P3D
REFRESH-INTERVAL:P3D
CALSCALE:GREGORIAN
BEGIN:VEVENT
DTSTART:20130728T130000Z
DTEND:20130728T223000Z
X-MICROSOFT-CDO-ALLDAYEVENT:FALSE
SUMMARY:Motorcycle Course- ARC
DESCRIPTION:ARC (Advanced Rider Course) - $100   \n\nMUST be 19 years of age with a minimum of 3 years of riding experience. \n\nARC provides rider development in the areas of risk management\, decision-making\, riding strategies\, and rider behavior. This eight-hour course includes classroom and riding activities. Riders will learn and review several techniques\, including basic control\, quick stops\, curve adjustments\, cornering and swerving.  Under the guidance of an experienced Rider Coach\, riders will examine their thought processes and discover some of the reasons why we make the choices we do. Plus\, this program allows you to explore your personal riding limitations and how to better utilize and understand your motorcycle's design capabilities. This course originally was designed for sport bike and similar riders\; however\, we have found that all riders can benefit from this curriculum and leave with a greater understanding of their personal decision-making process\, as well as their bike's capabilities and limitations.  The ARC is offered only to licensed riders with experience. Riders use their own motorcycles\, which may be subject to a safety inspection\, provide proof of ownership and insurance.
X-ALT-DESC;FMTTYPE=text/html:<strong><span>ARC </span></strong><strong><span>(Advanced Rider Course) </span></strong><strong><span>- $100<span>&nbsp\;&nbsp\;</span></span></strong>&nbsp\;<br />\n<em><span>MUST be 19 years of age with a minimum of 3 years of riding experience.</span></em>&nbsp\;<br />\n<span>ARC provides rider development in the areas of risk management\, decision-making\, riding strategies\, and rider behavior. This eight-hour course includes classroom and riding activities. Riders will learn and review several techniques\, including basic control\, quick stops\, curve adjustments\, cornering and swerving.<span>&nbsp\; </span>Under the guidance of an experienced Rider Coach\, riders will examine their thought processes and discover some of the reasons why we make the choices we do. Plus\, this program allows you to explore your personal riding limitations and how to better utilize and understand your motorcycle&rsquo\;s design capabilities. This course originally was designed for sport bike and similar riders\; however\, we have found that all riders can benefit from this curriculum and leave with a greater understanding of their personal decision-making process\, as well as their bike&rsquo\;s capabilities and limitations.<span>&nbsp\; </span>The ARC is offered only to licensed riders with experience. Riders use their own motorcycles\, which may be subject to a safety inspection\, provide proof of ownership and insurance.</span> 
LOCATION:to register visit: http://www.unk.edu/motorcycle/
UID:e.1404.2479
SEQUENCE:3
DTSTAMP:20260424T080302Z
URL:https://members.kearneycoc.org/events/details/motorcycle-course-arc-07-28-2013-2479
END:VEVENT

END:VCALENDAR
