BEGIN:VCALENDAR
VERSION:2.0
PRODID:-//ChamberMaster//Event Calendar 2.0//EN
METHOD:PUBLISH
X-PUBLISHED-TTL:P3D
REFRESH-INTERVAL:P3D
CALSCALE:GREGORIAN
BEGIN:VEVENT
DTSTART:20130630T130000Z
DTEND:20130630T223000Z
X-MICROSOFT-CDO-ALLDAYEVENT:FALSE
SUMMARY:Motorcycle Course- BRC2
DESCRIPTION:BRC2 (Basic Rider Course 2) - $100  \n\nMUST be 19 years of age with a minimum of 1 year of riding experience. \n\nBRC2 is designed for the rider who has experience with past or current motorcycle riding. During this 8-hour course the rider practices and demonstrates riding skill on his/her own motorcycle. It is an excellent skills refresher and enhancement course. Riders must provide their own motorcycles\, proof of ownership and insurance. Successful completion of the BRC2/ERC waives the need to take the Nebraska DMV written examination and road test. The course qualifies the rider for the motorcycle Endorsement "M" on their operator's license.
X-ALT-DESC;FMTTYPE=text/html:<strong><span>BRC2 </span></strong><strong><span>(Basic Rider Course 2)</span></strong><span> </span><span>- <strong>$100&nbsp\;</strong></span>&nbsp\;<br />\n<em><span>MUST be 19 years of age with a minimum of 1 year of riding experience.</span></em>&nbsp\;<br />\n<span>BRC2 is designed for the rider who has experience with past or current motorcycle riding. During this 8-hour course the rider practices and demonstrates riding skill on his/her own motorcycle. It is an excellent skills refresher and enhancement course. Riders must provide their own motorcycles\, proof of ownership and insurance. Successful completion of the BRC2/ERC waives the need to take the Nebraska DMV written examination and road test. The course qualifies the rider for the motorcycle Endorsement &quot\;M&quot\; on their operator&#39\;s license.</span> 
LOCATION:to register visit: http://www.unk.edu/motorcycle/
UID:e.1404.2475
SEQUENCE:3
DTSTAMP:20260424T081049Z
URL:https://members.kearneycoc.org/events/details/motorcycle-course-brc2-06-30-2013-2475
END:VEVENT

END:VCALENDAR
