BEGIN:VCALENDAR
VERSION:2.0
PRODID:-//ChamberMaster//Event Calendar 2.0//EN
METHOD:PUBLISH
X-PUBLISHED-TTL:P3D
REFRESH-INTERVAL:P3D
CALSCALE:GREGORIAN
BEGIN:VEVENT
DTSTART:20130414T130000Z
DTEND:20130414T223000Z
X-MICROSOFT-CDO-ALLDAYEVENT:FALSE
SUMMARY:Motorcycle Course- RRBRC
DESCRIPTION:RRBRC   Returning Rider Basic Rider Course  $100  RBRC is a new 8-hour course combines elements of the BRC and BRC2. It is designed for riders who may have been riding with a permit or experienced riders with or without a motorcycle endorsement who are returning to riding after an extended absence. After a brief familiarization\, riders MUST demonstrate sufficient skill in shifting (1st & 2nd gear)\, braking and stopping\, and perform a control skills exercise (offset weaves with clutch control) with proficiency to be allowed to continue. Students unable to perform basic control skills will be counseled and advised to register for the Basic Rider Course for an additional fee. Motorcycles are provided for your use during the course. Must be 19 years of age. Successful completion of the BRC waives the requirement to take the Nebraska Department of Motor Vehicles (DMV) written examination and road test and qualifies the student for the motorcycle Endorsement "M" on their operator's license.
X-ALT-DESC;FMTTYPE=text/html:<strong><span>RRBRC </span></strong><strong><span>&ndash\; Returning Rider Basic Rider Course</span></strong><span> </span><span>&nbsp\;</span><span>$100</span>&nbsp\; RBRC is a new 8-hour course combines elements of the BRC and BRC2. It is designed for riders who may have been riding with a permit or experienced riders with or without a motorcycle endorsement who are returning to riding after an extended absence. After a brief familiarization\, riders MUST demonstrate sufficient skill in shifting (1st &amp\; 2nd gear)\, braking and stopping\, and perform a control skills exercise (offset weaves with clutch control) with proficiency to be allowed to continue. Students unable to perform basic control skills will be counseled and advised to register for the Basic Rider Course for an additional fee. Motorcycles are provided for your use during the course. Must be 19 years of age. Successful completion of the BRC waives the requirement to take the Nebraska Department of Motor Vehicles (DMV) written examination and road test and qualifies the student for the motorcycle Endorsement &quot\;M&quot\; on their operator&#39\;s license. 
LOCATION:to register visit: http://www.unk.edu/motorcycle/
UID:e.1404.2468
SEQUENCE:3
DTSTAMP:20260424T140245Z
URL:https://members.kearneycoc.org/events/details/motorcycle-course-rrbrc-04-14-2013-2468
END:VEVENT

END:VCALENDAR
