BEGIN:VCALENDAR
VERSION:2.0
PRODID:-//ChamberMaster//Event Calendar 2.0//EN
METHOD:PUBLISH
X-PUBLISHED-TTL:P3D
REFRESH-INTERVAL:P3D
CALSCALE:GREGORIAN
BEGIN:VEVENT
DTSTART:20161028T210000Z
DTEND:20161028T230000Z
X-MICROSOFT-CDO-ALLDAYEVENT:FALSE
SUMMARY:Mount Carmel Trunk or Treat
DESCRIPTION:Mount Carmel would like to invite the community to join them for their Halloween Trunk-Or-Treat event on October 28th\, 2016 from 4:00-6:00 PM. Come for candy and fun. Call (308) 237-2287 for more information.
X-ALT-DESC;FMTTYPE=text/html:Mount Carmel would like to invite the community to join them for their Halloween Trunk-Or-Treat event on October 28th\, 2016 from 4:00-6:00 PM. Come for candy and fun. Call (308) 237-2287 for more information.
LOCATION:412 West 18th Street Kearney\, NE 68845
UID:e.1404.9060
SEQUENCE:3
DTSTAMP:20260421T122745Z
URL:https://members.kearneycoc.org/events/details/mount-carmel-trunk-or-treat-9060
END:VEVENT

END:VCALENDAR
