BEGIN:VCALENDAR
VERSION:2.0
PRODID:-//ChamberMaster//Event Calendar 2.0//EN
METHOD:PUBLISH
X-PUBLISHED-TTL:P3D
REFRESH-INTERVAL:P3D
CALSCALE:GREGORIAN
BEGIN:VEVENT
DTSTART:20150601T010000Z
DTEND:20150601T030000Z
X-MICROSOFT-CDO-ALLDAYEVENT:FALSE
SUMMARY:Movie Under the Stars
DESCRIPTION:Summer Kick off of Movies under the Stars! Grab your lawn chairs and blankets and join us for a FREE showing of "Fireproof" while enjoying being under the stars in our backyard. Movie will begin at dusk with the are opening up around 8pm. Concessions will be for sale helping benefit the museum and their mission of preserving Nebraska History. Any questions please contact the museum at 308-338-3473 or mail@neffm.org
X-ALT-DESC;FMTTYPE=text/html:Summer Kick off of Movies under the Stars! Grab your lawn chairs and blankets and join us for a FREE showing of &quot\;Fireproof&quot\; while enjoying being under the stars in our backyard. Movie will begin at dusk with the are opening up around 8pm. Concessions will be for sale helping benefit the museum and their mission of preserving Nebraska History. Any questions please contact the museum at 308-338-3473 or mail@neffm.org
LOCATION:Nebraska Firefighters Museum and Education Center
UID:e.1404.6242
SEQUENCE:3
DTSTAMP:20260422T182435Z
URL:https://members.kearneycoc.org/events/details/movie-under-the-stars-05-31-2015-6242
END:VEVENT

END:VCALENDAR
