BEGIN:VCALENDAR
VERSION:2.0
PRODID:-//ChamberMaster//Event Calendar 2.0//EN
METHOD:PUBLISH
X-PUBLISHED-TTL:P3D
REFRESH-INTERVAL:P3D
CALSCALE:GREGORIAN
BEGIN:VEVENT
DTSTART:20150824T010000Z
DTEND:20150824T030000Z
X-MICROSOFT-CDO-ALLDAYEVENT:FALSE
SUMMARY:Movie Under the Stars
DESCRIPTION:Summer fun with Movies under the Stars! Grab your lawn chairs and blankets and join us for a FREE showing of "Plane: Fire and Rescue" while enjoying being under the stars in our backyard. Movie will begin at dusk with the are opening up around 8pm. Concessions will be for sale helping benefit the museum and their mission of preserving Nebraska History. Any questions please contact the museum at 308-338-3473 or mail@neffm.org
X-ALT-DESC;FMTTYPE=text/html:Summer fun with Movies under the Stars! Grab your lawn chairs and blankets and join us for a FREE showing of &quot\;Plane: Fire and Rescue&quot\; while enjoying being under the stars in our backyard. Movie will begin at dusk with the are opening up around 8pm. Concessions will be for sale helping benefit the museum and their mission of preserving Nebraska History. Any questions please contact the museum at 308-338-3473 or mail@neffm.org
LOCATION:Nebraska Firefighters Museum
UID:e.1404.6246
SEQUENCE:3
DTSTAMP:20260422T114724Z
URL:https://members.kearneycoc.org/events/details/movie-under-the-stars-08-23-2015-6246
END:VEVENT

END:VCALENDAR
