BEGIN:VCALENDAR
VERSION:2.0
PRODID:-//ChamberMaster//Event Calendar 2.0//EN
METHOD:PUBLISH
X-PUBLISHED-TTL:P3D
REFRESH-INTERVAL:P3D
CALSCALE:GREGORIAN
BEGIN:VEVENT
DTSTART;VALUE=DATE:20140607
DTEND;VALUE=DATE:20140608
TRANSP:TRANSPARENT
X-MICROSOFT-CDO-ALLDAYEVENT:TRUE
SUMMARY:MWA Kearney Office Annual Cross Creeks Golf Tournament
DESCRIPTION:18 Hole 4-Man Scramble\n\n$55/person\n\nincludes entry fee and lunch\n\n10:00 A.M. Tee Off\n\n1st Place Traveling Trophy Awarded!\n\n\n\nCash Payout\, Raffle\, and Flag Prizes!
X-ALT-DESC;FMTTYPE=text/html:<strong><span style="color:#17365D\;"><span style="font-family:times new roman\,serif\;"><span style="font-size:16.0pt\;">18 Hole 4-Man Scramble</span></span></span></strong><br />\n<strong><span style="color:#17365D\;"><span style="font-family:times new roman\,serif\;"><span style="font-size:16.0pt\;">$55/person</span></span></span></strong><br />\n<strong><span style="color:#17365D\;"><span style="font-family:times new roman\,serif\;"><span style="font-size:10.0pt\;">includes entry fee and lunch</span></span></span></strong><br />\n<strong><span style="color:#17365D\;"><span style="font-family:times new roman\,serif\;"><span style="font-size:16.0pt\;">10:00 A.M. Tee Off</span></span></span></strong><br />\n<strong><span style="color:#17365D\;"><span style="font-family:times new roman\,serif\;"><span style="font-size:16.0pt\;">1<sup>st</sup> Place Traveling Trophy Awarded!</span></span></span></strong><br />\n<br />\n<strong><span style="color:#17365D\;"><span style="font-family:times new roman\,serif\;"><span style="font-size:16.0pt\;">Cash Payout\, Raffle\, and Flag Prizes!</span></span></span></strong>
LOCATION:June 7\, 2014 900 Cross Creek Road Cambridge\, NE 69022 308-697-4768 info@crosscreekgolflinks.com
UID:e.1404.4703
SEQUENCE:3
DTSTAMP:20260423T114122Z
URL:https://members.kearneycoc.org/events/details/mwa-kearney-office-annual-cross-creeks-golf-tournament-06-07-2014-4703
END:VEVENT

END:VCALENDAR
