BEGIN:VCALENDAR
VERSION:2.0
PRODID:-//ChamberMaster//Event Calendar 2.0//EN
METHOD:PUBLISH
X-PUBLISHED-TTL:P3D
REFRESH-INTERVAL:P3D
CALSCALE:GREGORIAN
BEGIN:VEVENT
DTSTART:20120803T003000Z
DTEND:20120806T003000Z
X-MICROSOFT-CDO-ALLDAYEVENT:FALSE
SUMMARY:My Way: A Musical Tribute to Frank Sinatra
DESCRIPTION:July 26 - August 12 (select dates)\n\nMinden Opera House/ Minden Community Players\n\nTickets: $15.00\n\nEvening Shows: 7:30 pm\n\nMatinee at 2:30 p.m.\n\nDoors open one hour before show.\n\nTickets may be purchased in advance or at the door if available.
X-ALT-DESC;FMTTYPE=text/html:July 26 - August 12 (select dates)<br />\nMinden Opera House/ Minden Community Players<br />\nTickets: $15.00<br />\nEvening Shows: 7:30 pm<br />\nMatinee at 2:30 p.m.<br />\nDoors open one hour before show.<br />\nTickets may be purchased in advance or at the door if available. 
LOCATION:Town Square Minden\, NE
UID:e.1404.2175
SEQUENCE:3
DTSTAMP:20260425T015538Z
URL:https://members.kearneycoc.org/events/details/my-way-a-musical-tribute-to-frank-sinatra-08-02-2012-2175
END:VEVENT

END:VCALENDAR
