BEGIN:VCALENDAR
VERSION:2.0
PRODID:-//ChamberMaster//Event Calendar 2.0//EN
METHOD:PUBLISH
X-PUBLISHED-TTL:P3D
REFRESH-INTERVAL:P3D
CALSCALE:GREGORIAN
BEGIN:VEVENT
DTSTART:20190628T130000Z
DTEND:20190628T200000Z
X-MICROSOFT-CDO-ALLDAYEVENT:FALSE
SUMMARY:Mystery Kids Camp
DESCRIPTION:MYSTERY KIDS CAMP\n\nJune 28 @ 8:00 am - 3:00 pm at Kearney Area \n\nChildren's Museum\n\nCalling all Mystery Kids!\n\nHelp us uncover important clues to solve mysteries and learn what it takes to be a Mystery Kid. We will also learn from the professionals and hear from our local police officers about how they solve mysteries in Kearney.\n\n\n\nSpecial Guest!\n\nChildren will learn the basics of being a Mystery Kid from our very own Kearney Police Department\, play team building games\, and participate in various mystery challenges.
X-ALT-DESC;FMTTYPE=text/html:MYSTERY KIDS CAMP<br />\nJune 28 @ 8:00 am - 3:00 pm at Kearney Area&nbsp\;<br />\nChildren&rsquo\;s Museum<br />\nCalling all Mystery Kids!<br />\nHelp us uncover important clues to solve mysteries and learn what it takes to be a Mystery Kid. We will also learn from the professionals and hear from our local police officers about how they solve mysteries in Kearney.<br />\n<br />\nSpecial Guest!<br />\nChildren will learn the basics of being a Mystery Kid from our very own Kearney Police Department\, play team building games\, and participate in various mystery challenges.<br />\n<br />\n&nbsp\;
LOCATION:Kearney Area Children's Museum Alia Arram Memorial Building 5827 4th Ave\, Kearney\, NE 68845
UID:e.1404.16561
SEQUENCE:3
DTSTAMP:20260425T230944Z
URL:https://members.kearneycoc.org/events/details/mystery-kids-camp-16561
END:VEVENT

END:VCALENDAR
