BEGIN:VCALENDAR
VERSION:2.0
PRODID:-//ChamberMaster//Event Calendar 2.0//EN
METHOD:PUBLISH
X-PUBLISHED-TTL:P3D
REFRESH-INTERVAL:P3D
CALSCALE:GREGORIAN
BEGIN:VEVENT
DTSTART:20150411T140000Z
DTEND:20150411T223000Z
X-MICROSOFT-CDO-ALLDAYEVENT:FALSE
SUMMARY:NAA: Sailing Through Time
DESCRIPTION:Join us where it all began-in Kearney! This is our 29th Annual Gathering of the Fllet\; the first one was in Kearney in 1986! Our guest speaker will share the joys and difficulties of attracting tourists to places of interest in Nebraska. Our scholarship winners will be recognized and will "walk the plank"! The auction of gifts and special memorabilia will help raise funds for our scholarship program. You won't want to miss out on the chance to garner one of the items solicited by the students in the UNK Tourism Club! To easily find the location\, take I-80 exit #279 and head north on second Avenue. The Kearney Visitors Bureau is at 1007 Second Avenue\, on the eas side of the street\, between Taco Bell and Tier One Bank.\n\n\n\nCost includes all conference events plus catered lunch and is only $25 per person!\n\n\n\nClick here for more information and for the full schedule!. Deadline to register is March 25.
X-ALT-DESC;FMTTYPE=text/html:Join us where it all began-in Kearney! This is our 29th Annual Gathering of the Fllet\; the first one was in Kearney in 1986! Our guest speaker will share the joys and difficulties of attracting tourists to places of interest in Nebraska. Our scholarship winners will be recognized and will &quot\;walk the plank&quot\;! The auction of gifts and special memorabilia will help raise funds for our scholarship program. You won&#39\;t want to miss out on the chance to garner one of the items solicited by the students in the UNK Tourism Club! To easily find the location\, take I-80 exit #279 and head north on second Avenue. The Kearney Visitors Bureau is at 1007 Second Avenue\, on the eas side of the street\, between Taco Bell and Tier One Bank.<br />\n<br />\n<strong>Cost includes all conference events plus catered lunch and is only $25 per person!</strong><br />\n<br />\n<a href="http://cloud.chambermaster.com/userfiles/UserFiles/chambers/1404/File/Admiralsregistration2015.pdf">Click here</a> for more information and for the full schedule!. Deadline to register is March 25.
LOCATION:Various Locations Starting at Kearney Visitors Bureau 1007 2nd Ave
UID:e.1404.6159
SEQUENCE:3
DTSTAMP:20260422T182135Z
URL:https://members.kearneycoc.org/events/details/naa-sailing-through-time-04-11-2015-6159
END:VEVENT

END:VCALENDAR
