BEGIN:VCALENDAR
VERSION:2.0
PRODID:-//ChamberMaster//Event Calendar 2.0//EN
METHOD:PUBLISH
X-PUBLISHED-TTL:P3D
REFRESH-INTERVAL:P3D
CALSCALE:GREGORIAN
BEGIN:VEVENT
DTSTART;VALUE=DATE:20150529
DTEND;VALUE=DATE:20150530
TRANSP:TRANSPARENT
X-MICROSOFT-CDO-ALLDAYEVENT:TRUE
SUMMARY:NAIFA Central Nebraska Golf Tournament
DESCRIPTION:NAIFA Central Nebraska Yanney Heritage Park Foundation Golf Tournament\n\n4 Person Team-18 Hole Scramble-$300 Per Team-Lunch Provided-10:00am Free Range Balls-Shotgun Start at 11:00am-Meal to Follow
X-ALT-DESC;FMTTYPE=text/html:NAIFA Central Nebraska Yanney Heritage Park Foundation Golf Tournament<br />\n4 Person Team-18 Hole Scramble-$300 Per Team-Lunch Provided-10:00am Free Range Balls-Shotgun Start at 11:00am-Meal to Follow
LOCATION:Meadowlark Hills Golf Course
UID:e.1404.6206
SEQUENCE:3
DTSTAMP:20260422T165223Z
URL:https://members.kearneycoc.org/events/details/naifa-central-nebraska-golf-tournament-05-29-2015-6206
END:VEVENT

END:VCALENDAR
